BEGIN:VCALENDAR
VERSION:2.0
PRODID:-//Skiclub Haarhausen - ECPv6.15.18//NONSGML v1.0//EN
CALSCALE:GREGORIAN
METHOD:PUBLISH
X-WR-CALNAME:Skiclub Haarhausen
X-ORIGINAL-URL:https://skiclub-haarhausen.de
X-WR-CALDESC:Veranstaltungen für Skiclub Haarhausen
REFRESH-INTERVAL;VALUE=DURATION:PT1H
X-Robots-Tag:noindex
X-PUBLISHED-TTL:PT1H
BEGIN:VTIMEZONE
TZID:Europe/Berlin
BEGIN:DAYLIGHT
TZOFFSETFROM:+0100
TZOFFSETTO:+0200
TZNAME:CEST
DTSTART:20210328T010000
END:DAYLIGHT
BEGIN:STANDARD
TZOFFSETFROM:+0200
TZOFFSETTO:+0100
TZNAME:CET
DTSTART:20211031T010000
END:STANDARD
BEGIN:DAYLIGHT
TZOFFSETFROM:+0100
TZOFFSETTO:+0200
TZNAME:CEST
DTSTART:20220327T010000
END:DAYLIGHT
BEGIN:STANDARD
TZOFFSETFROM:+0200
TZOFFSETTO:+0100
TZNAME:CET
DTSTART:20221030T010000
END:STANDARD
BEGIN:DAYLIGHT
TZOFFSETFROM:+0100
TZOFFSETTO:+0200
TZNAME:CEST
DTSTART:20230326T010000
END:DAYLIGHT
BEGIN:STANDARD
TZOFFSETFROM:+0200
TZOFFSETTO:+0100
TZNAME:CET
DTSTART:20231029T010000
END:STANDARD
END:VTIMEZONE
BEGIN:VEVENT
DTSTART;VALUE=DATE:20220102
DTEND;VALUE=DATE:20220109
DTSTAMP:20260425T212911
CREATED:20211111T080041Z
LAST-MODIFIED:20211227T095722Z
UID:1978-1641081600-1641686399@skiclub-haarhausen.de
SUMMARY:ABGESAGT - Jugensportwoche 2022 - Saalbach/Hinterglemm
DESCRIPTION:Die Fahrt wurde auf Grund der aktuellen Corona Situation abgesagt. Wir hoffen\, dass 2023 wieder eine Jugendsportwoche stattfinden kann.
URL:https://skiclub-haarhausen.de/event/jugensportwoche-2022-saalbach-hinterglemm/
LOCATION:Buchegg Resort\, Gerstreitweg 44\, Saalbach\, 5754\, Österreich
END:VEVENT
BEGIN:VEVENT
DTSTART;TZID=Europe/Berlin:20220122T200000
DTEND;TZID=Europe/Berlin:20220122T223000
DTSTAMP:20260425T212911
CREATED:20211027T205459Z
LAST-MODIFIED:20211227T100644Z
UID:1942-1642881600-1642890600@skiclub-haarhausen.de
SUMMARY:VERSCHOBEN - Generalversammlung 2022
DESCRIPTION:Auf Grund der aktuellen Corona Situation und der rechtlichen Rahmenbedingungen sowie mangelnder Planungssicherheit für den Januar hat sich der Vorstand entschieden\, die Generalversammlung in den Frühjahr oder Sommer 2022 zu verschieben. Wir hoffen\, dass zu diesem Zeitpunkt eine sichere und coronakonforme Durchführung möglich sein wird. Einen genauen Termin sowie eine ordnungsgemäße Einladung der Mitglieder folgt\, sobald dieser festgelegt wurde. \nUrsprüngliche Tagesordnung: \n\nBegrüßung\nTätigkeitsbericht des Vorstandes\nSiegerehrung der Clubmeister\nKassenbericht\nEntlastung des Vorstandes\nNeuwahlen\nVerschiedenes\n\nMitgliedsbeiträge
URL:https://skiclub-haarhausen.de/event/generalversammlung2022/
LOCATION:DGH Haarhausen\, Erfurtshäuser Straße 14\, Haarhausen\, 35315
END:VEVENT
END:VCALENDAR