BEGIN:VCALENDAR
VERSION:2.0
PRODID:-//Skiclub Haarhausen - ECPv6.15.18//NONSGML v1.0//EN
CALSCALE:GREGORIAN
METHOD:PUBLISH
X-WR-CALNAME:Skiclub Haarhausen
X-ORIGINAL-URL:https://skiclub-haarhausen.de
X-WR-CALDESC:Veranstaltungen für Skiclub Haarhausen
REFRESH-INTERVAL;VALUE=DURATION:PT1H
X-Robots-Tag:noindex
X-PUBLISHED-TTL:PT1H
BEGIN:VTIMEZONE
TZID:Europe/Berlin
BEGIN:DAYLIGHT
TZOFFSETFROM:+0100
TZOFFSETTO:+0200
TZNAME:CEST
DTSTART:20210328T010000
END:DAYLIGHT
BEGIN:STANDARD
TZOFFSETFROM:+0200
TZOFFSETTO:+0100
TZNAME:CET
DTSTART:20211031T010000
END:STANDARD
BEGIN:DAYLIGHT
TZOFFSETFROM:+0100
TZOFFSETTO:+0200
TZNAME:CEST
DTSTART:20220327T010000
END:DAYLIGHT
BEGIN:STANDARD
TZOFFSETFROM:+0200
TZOFFSETTO:+0100
TZNAME:CET
DTSTART:20221030T010000
END:STANDARD
BEGIN:DAYLIGHT
TZOFFSETFROM:+0100
TZOFFSETTO:+0200
TZNAME:CEST
DTSTART:20230326T010000
END:DAYLIGHT
BEGIN:STANDARD
TZOFFSETFROM:+0200
TZOFFSETTO:+0100
TZNAME:CET
DTSTART:20231029T010000
END:STANDARD
END:VTIMEZONE
BEGIN:VEVENT
DTSTART;VALUE=DATE:20220305
DTEND;VALUE=DATE:20220313
DTSTAMP:20260425T181242
CREATED:20211111T075536Z
LAST-MODIFIED:20220303T145040Z
UID:1972-1646438400-1647129599@skiclub-haarhausen.de
SUMMARY:Sportwoche 2022 - Arabba
DESCRIPTION:Wichtig: Die Sportwoche findet unter 2G Regeln statt. \nAusschreibung \nAbfahrt Haarhausen am Freitag\, 04.03.2022 um 22.00 Uhr. Hombergerinnen und  Homberger können um 21.30 Uhr beim Kuki zusteigen.
URL:https://skiclub-haarhausen.de/event/sportwoche-2022-arabba/
LOCATION:Hotel Pordoi\, Via Boe 9\, Arabba\, Südtirol\, 32020\, Italien
END:VEVENT
END:VCALENDAR