BEGIN:VCALENDAR
VERSION:2.0
PRODID:-//Skiclub Haarhausen - ECPv6.15.18//NONSGML v1.0//EN
CALSCALE:GREGORIAN
METHOD:PUBLISH
X-ORIGINAL-URL:https://skiclub-haarhausen.de
X-WR-CALDESC:Veranstaltungen für Skiclub Haarhausen
REFRESH-INTERVAL;VALUE=DURATION:PT1H
X-Robots-Tag:noindex
X-PUBLISHED-TTL:PT1H
BEGIN:VTIMEZONE
TZID:Europe/Berlin
BEGIN:DAYLIGHT
TZOFFSETFROM:+0100
TZOFFSETTO:+0200
TZNAME:CEST
DTSTART:20210328T010000
END:DAYLIGHT
BEGIN:STANDARD
TZOFFSETFROM:+0200
TZOFFSETTO:+0100
TZNAME:CET
DTSTART:20211031T010000
END:STANDARD
BEGIN:DAYLIGHT
TZOFFSETFROM:+0100
TZOFFSETTO:+0200
TZNAME:CEST
DTSTART:20220327T010000
END:DAYLIGHT
BEGIN:STANDARD
TZOFFSETFROM:+0200
TZOFFSETTO:+0100
TZNAME:CET
DTSTART:20221030T010000
END:STANDARD
BEGIN:DAYLIGHT
TZOFFSETFROM:+0100
TZOFFSETTO:+0200
TZNAME:CEST
DTSTART:20230326T010000
END:DAYLIGHT
BEGIN:STANDARD
TZOFFSETFROM:+0200
TZOFFSETTO:+0100
TZNAME:CET
DTSTART:20231029T010000
END:STANDARD
END:VTIMEZONE
BEGIN:VEVENT
DTSTART;TZID=Europe/Berlin:20220501T110000
DTEND;TZID=Europe/Berlin:20220501T180000
DTSTAMP:20260425T145121
CREATED:20220410T115548Z
LAST-MODIFIED:20220420T144540Z
UID:2027-1651402800-1651428000@skiclub-haarhausen.de
SUMMARY:Traditionelles Backhausfest 2022
DESCRIPTION:Am Sonntag\, dem 1. Mai trifft man sich wieder zum traditionellen Backhausfest in Haarhausen. Im Zelt am Dorfgemeinschaftshaus gibt es ab 11Uhr den beliebten Salzekuchen und Haxen aus dem Backhaus sowie Steaks und Würstchen vom Holzkohlegrill. Nachmittags werden Kaffee und selbstgebackener Kuchen angeboten und die kleinen Gäste können sich in einer Hüpfburg austoben. Der Skiclub Haarhausen freut sich auf viele Gäste.
URL:https://skiclub-haarhausen.de/event/traditionelles-backhausfest-2022/
LOCATION:DGH Haarhausen\, Erfurtshäuser Straße 14\, Haarhausen\, 35315
END:VEVENT
BEGIN:VEVENT
DTSTART;TZID=Europe/Berlin:20220506T190000
DTEND;TZID=Europe/Berlin:20220506T220000
DTSTAMP:20260425T145121
CREATED:20220410T114723Z
LAST-MODIFIED:20220412T073710Z
UID:2025-1651863600-1651874400@skiclub-haarhausen.de
SUMMARY:Generalversammlung 2022
DESCRIPTION:Am Freitag\, den 6.5.2022 findet die Generalversammlung des Skiclub Haarhausen im Dorfgemeinschaftshaus in Haarhausen statt. Die Veranstaltung beginnt um 19 Uhr mit einem gemeinsamen Imbiss und ab 20 Uhr folgt der offizielle Teil. Hierzu sind alle Mitglieder herzlich eingeladen. Die Tagesordnung sieht folgende Punkte vor: \n\nBegrüßung\nTätigkeitsbericht des Vorstandes\nSiegerehrung der Clubmeister\nKassenbericht (Bericht des Kassenprüfenden und Wahl des Kassenprüfenden)\nEntlastung des Vorstandes\nNeuwahlen\nAnpassung Mitgliedsbeiträge\nSatzungsänderung §8\, Punkt 4 Verlängerung der Wahlperiode\nTätigkeitsvergütung Ehrenamtspauschale für den Vorstand\nVerschiedenes\n\nDer Vorstand hofft\, viele Mitglieder begrüßen zu können.
URL:https://skiclub-haarhausen.de/event/generalversammlung-2022/
LOCATION:DGH Haarhausen\, Erfurtshäuser Straße 14\, Haarhausen\, 35315
END:VEVENT
END:VCALENDAR