BEGIN:VCALENDAR
VERSION:2.0
PRODID:-//Skiclub Haarhausen - ECPv6.15.18//NONSGML v1.0//EN
CALSCALE:GREGORIAN
METHOD:PUBLISH
X-WR-CALNAME:Skiclub Haarhausen
X-ORIGINAL-URL:https://skiclub-haarhausen.de
X-WR-CALDESC:Veranstaltungen für Skiclub Haarhausen
REFRESH-INTERVAL;VALUE=DURATION:PT1H
X-Robots-Tag:noindex
X-PUBLISHED-TTL:PT1H
BEGIN:VTIMEZONE
TZID:Europe/Berlin
BEGIN:DAYLIGHT
TZOFFSETFROM:+0100
TZOFFSETTO:+0200
TZNAME:CEST
DTSTART:20210328T010000
END:DAYLIGHT
BEGIN:STANDARD
TZOFFSETFROM:+0200
TZOFFSETTO:+0100
TZNAME:CET
DTSTART:20211031T010000
END:STANDARD
BEGIN:DAYLIGHT
TZOFFSETFROM:+0100
TZOFFSETTO:+0200
TZNAME:CEST
DTSTART:20220327T010000
END:DAYLIGHT
BEGIN:STANDARD
TZOFFSETFROM:+0200
TZOFFSETTO:+0100
TZNAME:CET
DTSTART:20221030T010000
END:STANDARD
BEGIN:DAYLIGHT
TZOFFSETFROM:+0100
TZOFFSETTO:+0200
TZNAME:CEST
DTSTART:20230326T010000
END:DAYLIGHT
BEGIN:STANDARD
TZOFFSETFROM:+0200
TZOFFSETTO:+0100
TZNAME:CET
DTSTART:20231029T010000
END:STANDARD
BEGIN:DAYLIGHT
TZOFFSETFROM:+0100
TZOFFSETTO:+0200
TZNAME:CEST
DTSTART:20240331T010000
END:DAYLIGHT
BEGIN:STANDARD
TZOFFSETFROM:+0200
TZOFFSETTO:+0100
TZNAME:CET
DTSTART:20241027T010000
END:STANDARD
END:VTIMEZONE
BEGIN:VEVENT
DTSTART;VALUE=DATE:20221226
DTEND;VALUE=DATE:20230103
DTSTAMP:20260425T030423
CREATED:20221024T131928Z
LAST-MODIFIED:20221024T132103Z
UID:2122-1672012800-1672703999@skiclub-haarhausen.de
SUMMARY:Familienskifreizeit 2023 - Sankt Johann
DESCRIPTION:Ausschreibung \nWir fahren ins Tauferer Ahrntal nach Sankt Johann. Sankt Johann im Ahrntal liegt inmitten der wunderschönen Südtiroler Bergwelt. Die schneesicherste Skiregion im deutschsprachigen Südtirol\, verspricht familienfreundlichen Urlaub. Eingebettet in die winterliche Traumwelt inmitten von 60 Dreitausendern lockt es mit seinen gut ausgebauten Skigebieten und Loipen auch für die Kombinierer unter den Brettfreunden. Auf der sonnenverwöhnten Hochebene des Speikbodens trifft man auf unterschiedliche Abfahrten für die ganze Familie. Wir wohnen im Sporthotel Griesfeld. Wir haben dort ca.30 Betten in Doppel und Mehrbettzimmern zur Verfügung. Das Hotel liegt ca. 4 km vom Skigebiet Speikboden entfernt\, Der Skibus bringt uns im 20 Minuten Takt direkt zu einem wunderschönen Tag im Schnee!
URL:https://skiclub-haarhausen.de/event/familienskifreizeit-2023-sankt-johann/
LOCATION:Sporthotel Griesfeld\, Griesfeld 1\, San Giovanni\, 39030\, Italien
END:VEVENT
END:VCALENDAR