BEGIN:VCALENDAR
VERSION:2.0
PRODID:-//Skiclub Haarhausen - ECPv6.15.18//NONSGML v1.0//EN
CALSCALE:GREGORIAN
METHOD:PUBLISH
X-WR-CALNAME:Skiclub Haarhausen
X-ORIGINAL-URL:https://skiclub-haarhausen.de
X-WR-CALDESC:Veranstaltungen für Skiclub Haarhausen
REFRESH-INTERVAL;VALUE=DURATION:PT1H
X-Robots-Tag:noindex
X-PUBLISHED-TTL:PT1H
BEGIN:VTIMEZONE
TZID:Europe/Berlin
BEGIN:DAYLIGHT
TZOFFSETFROM:+0100
TZOFFSETTO:+0200
TZNAME:CEST
DTSTART:20210328T010000
END:DAYLIGHT
BEGIN:STANDARD
TZOFFSETFROM:+0200
TZOFFSETTO:+0100
TZNAME:CET
DTSTART:20211031T010000
END:STANDARD
BEGIN:DAYLIGHT
TZOFFSETFROM:+0100
TZOFFSETTO:+0200
TZNAME:CEST
DTSTART:20220327T010000
END:DAYLIGHT
BEGIN:STANDARD
TZOFFSETFROM:+0200
TZOFFSETTO:+0100
TZNAME:CET
DTSTART:20221030T010000
END:STANDARD
BEGIN:DAYLIGHT
TZOFFSETFROM:+0100
TZOFFSETTO:+0200
TZNAME:CEST
DTSTART:20230326T010000
END:DAYLIGHT
BEGIN:STANDARD
TZOFFSETFROM:+0200
TZOFFSETTO:+0100
TZNAME:CET
DTSTART:20231029T010000
END:STANDARD
BEGIN:DAYLIGHT
TZOFFSETFROM:+0100
TZOFFSETTO:+0200
TZNAME:CEST
DTSTART:20240331T010000
END:DAYLIGHT
BEGIN:STANDARD
TZOFFSETFROM:+0200
TZOFFSETTO:+0100
TZNAME:CET
DTSTART:20241027T010000
END:STANDARD
END:VTIMEZONE
BEGIN:VEVENT
DTSTART;VALUE=DATE:20221226
DTEND;VALUE=DATE:20230103
DTSTAMP:20260425T012228
CREATED:20221024T131928Z
LAST-MODIFIED:20221024T132103Z
UID:2122-1672012800-1672703999@skiclub-haarhausen.de
SUMMARY:Familienskifreizeit 2023 - Sankt Johann
DESCRIPTION:Ausschreibung \nWir fahren ins Tauferer Ahrntal nach Sankt Johann. Sankt Johann im Ahrntal liegt inmitten der wunderschönen Südtiroler Bergwelt. Die schneesicherste Skiregion im deutschsprachigen Südtirol\, verspricht familienfreundlichen Urlaub. Eingebettet in die winterliche Traumwelt inmitten von 60 Dreitausendern lockt es mit seinen gut ausgebauten Skigebieten und Loipen auch für die Kombinierer unter den Brettfreunden. Auf der sonnenverwöhnten Hochebene des Speikbodens trifft man auf unterschiedliche Abfahrten für die ganze Familie. Wir wohnen im Sporthotel Griesfeld. Wir haben dort ca.30 Betten in Doppel und Mehrbettzimmern zur Verfügung. Das Hotel liegt ca. 4 km vom Skigebiet Speikboden entfernt\, Der Skibus bringt uns im 20 Minuten Takt direkt zu einem wunderschönen Tag im Schnee!
URL:https://skiclub-haarhausen.de/event/familienskifreizeit-2023-sankt-johann/
LOCATION:Sporthotel Griesfeld\, Griesfeld 1\, San Giovanni\, 39030\, Italien
END:VEVENT
BEGIN:VEVENT
DTSTART;VALUE=DATE:20230101
DTEND;VALUE=DATE:20230107
DTSTAMP:20260425T012228
CREATED:20221023T112445Z
LAST-MODIFIED:20221027T162828Z
UID:2084-1672531200-1673049599@skiclub-haarhausen.de
SUMMARY:Jugendsportwoche 2023 - Saalbach/Hinterglemm
DESCRIPTION:Achtung: Die Fahrt ist bereits ausgebucht! \nIn diesem Jahr führt uns unsere Jugendskifreizeit für Jugendliche ab 15 Jahren in das Skigebiet Saalbach-Hinterglemm. Das Skigebiet hat 121 Skilifte und wir können uns dort auf 408 Pistenkilometern austoben. In dem Skigebiet erwarten uns ideale Bedingungen\, um es auf der Piste krachen zu lassen und Spaß zu haben. \nAusschreibung
URL:https://skiclub-haarhausen.de/event/jugendsportwoche-2023-saalbach-hinterglemm/
LOCATION:Buchegg Resort\, Gerstreitweg 44\, Saalbach\, 5754\, Österreich
END:VEVENT
BEGIN:VEVENT
DTSTART;TZID=Europe/Berlin:20230121T190000
DTEND;TZID=Europe/Berlin:20230121T223000
DTSTAMP:20260425T012228
CREATED:20221023T114931Z
LAST-MODIFIED:20221230T143907Z
UID:2116-1674327600-1674340200@skiclub-haarhausen.de
SUMMARY:Jahreshauptversammlung 2023
DESCRIPTION:Die Jahreshauptversammlung findet dieses Jahr ausnahmsweise im Mehrgenerationenhaus Ober-Ofleiden statt\, da die Stadt Homberg auf Grund der Energiekriese das DGH in Haarhausen über die Wintermonate geschlossen lässt. \nBevor der offizielle Teil um 20:00 Uhr beginnt\, werden wir die Veranstaltung mit einem gemeinsamen Abendessen um 19:00 starten. Die Tagesordnung lautet wie folgt: \n\nBegrüßung \nTätigkeitsbericht des Vorstands\nKassenbericht des Rechners\nBericht des Kassenprüfers\nEntlastung des Vorstandes\nWahl eines neuen Kassenprüfers / einer neuen Kassenprüferin\nSatzungsänderung: Ergänzung  §8 Punkt 6\nVerschiedenes\n\nDer Vorstand hofft\, viele Mitglieder begrüßen zu können.
URL:https://skiclub-haarhausen.de/event/jahreshauptversammlung-2023/
LOCATION:MGH Ober-Ofleiden\, Welckerstraße 1\, Ober-Ofleiden\, Hessen\, 35215\, Deutschland
END:VEVENT
BEGIN:VEVENT
DTSTART;TZID=Europe/Berlin:20230125T193000
DTEND;TZID=Europe/Berlin:20230125T204500
DTSTAMP:20260425T012228
CREATED:20221023T113424Z
LAST-MODIFIED:20230121T192143Z
UID:2108-1674675000-1674679500@skiclub-haarhausen.de
SUMMARY:Fit für die Piste - Fit für den Alltag 2022/23
DESCRIPTION:⚠️ Beginn jetzt schon um 19:30 ⚠️ \n„Fit für die Piste – Fit für den Alltag“ – den Körper mit modernen Trainingsmethoden effektiv trainieren heißt das Motto beim Skiclub Haarhausen 1990 e.V. mit einem abwechslungsreichen Ganzkörpertraining bestehend aus Bauch – Beine – Po\, Stepp Intervall oder Pilates Elementen werden unsere beiden Trainerinnen Lena und Moni die wichtigsten Muskelgruppen stärken. Mit gezielten Übungen mobilisieren wir eure Gelenke\, stabilisieren euren Rumpf\, kräftigen eure Beine-\, Bauch- und Pomuskulatur und verbessern eure Kondition. Durch die gut abgestimmten Übungen ist es auch Anfängern möglich\, sofort mitzumachen und Spaß an der Bewegung und Stärkung des gesamten Körpers zu finden. Die Kurse beginnen ab dem 09. November immer mittwochs um 20.00 Uhr in der kleinen Turnhalle der Schule in Homberg. Auch Nichtmitglieder sind sehr gerne willkommen. Die Teilnahme ist kostenlos. Auf euer Kommen freut sich der Skiclub Haarhausen. Für Fragen stehen wir euch unter vorstand[at]skiclub-haarhausen.de  gerne zur Verfügung. \n  \nDie Veranstaltung findet den ganzen Winter über jeden Mittwoch statt. Der Termin spiegelt nur die erste Veranstaltung wider. Beginn ist 19:30. Ankommen und Umziehen geht ab 19:15.
URL:https://skiclub-haarhausen.de/event/fit-fuer-die-piste-fit-fuer-den-alltag-2022-23/
LOCATION:Kleine Sporthalle Homberg\, Hochstraße 11\, Homberg Ohm\, 35315\, Deutschland
END:VEVENT
END:VCALENDAR