BEGIN:VCALENDAR
VERSION:2.0
PRODID:-//Skiclub Haarhausen - ECPv6.15.18//NONSGML v1.0//EN
CALSCALE:GREGORIAN
METHOD:PUBLISH
X-WR-CALNAME:Skiclub Haarhausen
X-ORIGINAL-URL:https://skiclub-haarhausen.de
X-WR-CALDESC:Veranstaltungen für Skiclub Haarhausen
REFRESH-INTERVAL;VALUE=DURATION:PT1H
X-Robots-Tag:noindex
X-PUBLISHED-TTL:PT1H
BEGIN:VTIMEZONE
TZID:Europe/Berlin
BEGIN:DAYLIGHT
TZOFFSETFROM:+0100
TZOFFSETTO:+0200
TZNAME:CEST
DTSTART:20220327T010000
END:DAYLIGHT
BEGIN:STANDARD
TZOFFSETFROM:+0200
TZOFFSETTO:+0100
TZNAME:CET
DTSTART:20221030T010000
END:STANDARD
BEGIN:DAYLIGHT
TZOFFSETFROM:+0100
TZOFFSETTO:+0200
TZNAME:CEST
DTSTART:20230326T010000
END:DAYLIGHT
BEGIN:STANDARD
TZOFFSETFROM:+0200
TZOFFSETTO:+0100
TZNAME:CET
DTSTART:20231029T010000
END:STANDARD
BEGIN:DAYLIGHT
TZOFFSETFROM:+0100
TZOFFSETTO:+0200
TZNAME:CEST
DTSTART:20240331T010000
END:DAYLIGHT
BEGIN:STANDARD
TZOFFSETFROM:+0200
TZOFFSETTO:+0100
TZNAME:CET
DTSTART:20241027T010000
END:STANDARD
END:VTIMEZONE
BEGIN:VEVENT
DTSTART;VALUE=DATE:20230304
DTEND;VALUE=DATE:20230312
DTSTAMP:20260424T220218
CREATED:20221023T114326Z
LAST-MODIFIED:20230302T165542Z
UID:2110-1677888000-1678579199@skiclub-haarhausen.de
SUMMARY:Sportwoche 2023 Saalbach/Hinterglemm
DESCRIPTION:Treffpunkt zur Abfahrt am 03.03: \nHomberg (Ohm) (Berliner Str. 6A bei Ebke): 22:45\nHaarhausen (DGH): 23:00 \n  \nAuf geht’s nach Viehhofen zum Oberwirt im lässigsten Skigebiet der Alpen von Saalbach-Hinterglemm-Leogang-Fieberbrunn\nEgal ob man mit dem ZellamseeXpress auf die Schmittenhöhe im Skigebiet Zell am See oder mit der Schönleitenbahn ins Skigebiet von Saalbach-Hinterglemm-Leogang-Fieberbrunn gondelt\, mit der Ski-Alpin-Card kann man nahezu grenzenloses Skivergnügen auf bis zu 408 km bestens präparierten Pisten mit 121 Liften in einem der größten Skigebiete der Alpen genießen. \nAusschreibung
URL:https://skiclub-haarhausen.de/event/sportwoche-2023-saalbach-hinterglemm/
LOCATION:Oberwirt Viehofen\, Kirchplatz 32\, Viehhofen\, 5752\, Österreich
END:VEVENT
END:VCALENDAR