BEGIN:VCALENDAR
VERSION:2.0
PRODID:-//Skiclub Haarhausen - ECPv6.15.18//NONSGML v1.0//EN
CALSCALE:GREGORIAN
METHOD:PUBLISH
X-WR-CALNAME:Skiclub Haarhausen
X-ORIGINAL-URL:https://skiclub-haarhausen.de
X-WR-CALDESC:Veranstaltungen für Skiclub Haarhausen
REFRESH-INTERVAL;VALUE=DURATION:PT1H
X-Robots-Tag:noindex
X-PUBLISHED-TTL:PT1H
BEGIN:VTIMEZONE
TZID:Europe/Berlin
BEGIN:DAYLIGHT
TZOFFSETFROM:+0100
TZOFFSETTO:+0200
TZNAME:CEST
DTSTART:20220327T010000
END:DAYLIGHT
BEGIN:STANDARD
TZOFFSETFROM:+0200
TZOFFSETTO:+0100
TZNAME:CET
DTSTART:20221030T010000
END:STANDARD
BEGIN:DAYLIGHT
TZOFFSETFROM:+0100
TZOFFSETTO:+0200
TZNAME:CEST
DTSTART:20230326T010000
END:DAYLIGHT
BEGIN:STANDARD
TZOFFSETFROM:+0200
TZOFFSETTO:+0100
TZNAME:CET
DTSTART:20231029T010000
END:STANDARD
BEGIN:DAYLIGHT
TZOFFSETFROM:+0100
TZOFFSETTO:+0200
TZNAME:CEST
DTSTART:20240331T010000
END:DAYLIGHT
BEGIN:STANDARD
TZOFFSETFROM:+0200
TZOFFSETTO:+0100
TZNAME:CET
DTSTART:20241027T010000
END:STANDARD
END:VTIMEZONE
BEGIN:VEVENT
DTSTART;TZID=Europe/Berlin:20230501T100000
DTEND;TZID=Europe/Berlin:20230501T180000
DTSTAMP:20260424T181731
CREATED:20230424T064624Z
LAST-MODIFIED:20250912T135119Z
UID:2215-1682935200-1682964000@skiclub-haarhausen.de
SUMMARY:Traditionelles Backhausfest 2023
DESCRIPTION:Am Donnerstag\, dem 1. Mai trifft man sich wieder zum traditionellen Backhausfest in Haarhausen. Im Zelt am Dorfgemeinschaftshaus gibt es ab 10Uhr den beliebten Salzekuchen und Haxen aus dem Backhaus sowie Steaks und Würstchen vom Holzkohlegrill. Nachmittags werden Kaffee und selbstgebackener Kuchen angeboten und die kleinen Gäste können sich in einer Hüpfburg austoben. Der Skiclub Haarhausen freut sich auf viele Gäste.
URL:https://skiclub-haarhausen.de/event/traditionelles-backhausfest-2023/
LOCATION:DGH Haarhausen\, Erfurtshäuser Straße 14\, Haarhausen\, 35315
END:VEVENT
END:VCALENDAR