BEGIN:VCALENDAR
VERSION:2.0
PRODID:-//Skiclub Haarhausen - ECPv6.15.18//NONSGML v1.0//EN
CALSCALE:GREGORIAN
METHOD:PUBLISH
X-WR-CALNAME:Skiclub Haarhausen
X-ORIGINAL-URL:https://skiclub-haarhausen.de
X-WR-CALDESC:Veranstaltungen für Skiclub Haarhausen
REFRESH-INTERVAL;VALUE=DURATION:PT1H
X-Robots-Tag:noindex
X-PUBLISHED-TTL:PT1H
BEGIN:VTIMEZONE
TZID:Europe/Berlin
BEGIN:DAYLIGHT
TZOFFSETFROM:+0100
TZOFFSETTO:+0200
TZNAME:CEST
DTSTART:20220327T010000
END:DAYLIGHT
BEGIN:STANDARD
TZOFFSETFROM:+0200
TZOFFSETTO:+0100
TZNAME:CET
DTSTART:20221030T010000
END:STANDARD
BEGIN:DAYLIGHT
TZOFFSETFROM:+0100
TZOFFSETTO:+0200
TZNAME:CEST
DTSTART:20230326T010000
END:DAYLIGHT
BEGIN:STANDARD
TZOFFSETFROM:+0200
TZOFFSETTO:+0100
TZNAME:CET
DTSTART:20231029T010000
END:STANDARD
BEGIN:DAYLIGHT
TZOFFSETFROM:+0100
TZOFFSETTO:+0200
TZNAME:CEST
DTSTART:20240331T010000
END:DAYLIGHT
BEGIN:STANDARD
TZOFFSETFROM:+0200
TZOFFSETTO:+0100
TZNAME:CET
DTSTART:20241027T010000
END:STANDARD
END:VTIMEZONE
BEGIN:VEVENT
DTSTART;TZID=Europe/Berlin:20231111T183000
DTEND;TZID=Europe/Berlin:20231111T235900
DTSTAMP:20260424T074803
CREATED:20230929T134238Z
LAST-MODIFIED:20231004T174725Z
UID:2252-1699727400-1699747140@skiclub-haarhausen.de
SUMMARY:Schlachtessen 2023
DESCRIPTION:Gemeinsames Schlachtessen für alle Mitglieder\, Helferinnen und Helfer des Skiclubs.
URL:https://skiclub-haarhausen.de/event/schlachtessen-2023/
LOCATION:Hainmühle\, Mühltal 1\, Homberg Ohm\, 35315\, Deutschland
END:VEVENT
END:VCALENDAR