BEGIN:VCALENDAR
VERSION:2.0
PRODID:-//Skiclub Haarhausen - ECPv6.15.18//NONSGML v1.0//EN
CALSCALE:GREGORIAN
METHOD:PUBLISH
X-WR-CALNAME:Skiclub Haarhausen
X-ORIGINAL-URL:https://skiclub-haarhausen.de
X-WR-CALDESC:Veranstaltungen für Skiclub Haarhausen
REFRESH-INTERVAL;VALUE=DURATION:PT1H
X-Robots-Tag:noindex
X-PUBLISHED-TTL:PT1H
BEGIN:VTIMEZONE
TZID:Europe/Berlin
BEGIN:DAYLIGHT
TZOFFSETFROM:+0100
TZOFFSETTO:+0200
TZNAME:CEST
DTSTART:20240331T010000
END:DAYLIGHT
BEGIN:STANDARD
TZOFFSETFROM:+0200
TZOFFSETTO:+0100
TZNAME:CET
DTSTART:20241027T010000
END:STANDARD
BEGIN:DAYLIGHT
TZOFFSETFROM:+0100
TZOFFSETTO:+0200
TZNAME:CEST
DTSTART:20250330T010000
END:DAYLIGHT
BEGIN:STANDARD
TZOFFSETFROM:+0200
TZOFFSETTO:+0100
TZNAME:CET
DTSTART:20251026T010000
END:STANDARD
BEGIN:DAYLIGHT
TZOFFSETFROM:+0100
TZOFFSETTO:+0200
TZNAME:CEST
DTSTART:20260329T010000
END:DAYLIGHT
BEGIN:STANDARD
TZOFFSETFROM:+0200
TZOFFSETTO:+0100
TZNAME:CET
DTSTART:20261025T010000
END:STANDARD
END:VTIMEZONE
BEGIN:VEVENT
DTSTART;VALUE=DATE:20250101
DTEND;VALUE=DATE:20250106
DTSTAMP:20260421T122458
CREATED:20241223T100114Z
LAST-MODIFIED:20241223T100114Z
UID:2383-1735689600-1736121599@skiclub-haarhausen.de
SUMMARY:Jugendsportwoche 2025
DESCRIPTION:Wie in den vergangenen Jahren geht es wieder nach Saalbach Hinterglemm ins Buchegg Resort\nDie Jugendskifreizeit ist für Jugendliche ab 16 Jahren. Im Skigebiet erwarten uns nahezu unendliche\nPisten\, auf denen wir es krachen lassen können. \nWeitere Infos in der Ausschreibung.
URL:https://skiclub-haarhausen.de/event/jugendsportwoche-2025/
LOCATION:Buchegg Resort\, Gerstreitweg 44\, Saalbach\, 5754\, Österreich
END:VEVENT
BEGIN:VEVENT
DTSTART;VALUE=DATE:20250106
DTEND;VALUE=DATE:20250112
DTSTAMP:20260421T122458
CREATED:20241223T100537Z
LAST-MODIFIED:20241223T100537Z
UID:2385-1736121600-1736639999@skiclub-haarhausen.de
SUMMARY:Familiensportwoche 2025
DESCRIPTION:Wir fahren ins Zillertal nach Kaltenbach. Hoch hinaus auf knapp 2.400 Metern Seehöhe geht die große Auswahl an blauen\, roten und schwarzen Pisten im Ski-Optimal Hochzillertal. Wer hier noch etwas höher hinaus möchte\,\nfindet hier auch besonders bei den Freeridern beliebte unpräparierte Skirouten. Egal ob Anfänger\, Fortgeschrittene oder beim Skifahren mit Kinder\, im Skigebiet Hochzillertal findet jeder seine perfekt präparierte Piste. \nAlle weiteren Informationen in der Ausschreibung
URL:https://skiclub-haarhausen.de/event/familiensportwoche-2025/
LOCATION:Hotel Hochzillertal\, Dorfstraße 16\, Kaltenbach\, Tirol\, 6272\, Austria
END:VEVENT
BEGIN:VEVENT
DTSTART;TZID=Europe/Berlin:20250118T190000
DTEND;TZID=Europe/Berlin:20250118T230000
DTSTAMP:20260421T122458
CREATED:20240917T191718Z
LAST-MODIFIED:20241223T095417Z
UID:2349-1737226800-1737241200@skiclub-haarhausen.de
SUMMARY:Jahreshauptversammlung 2025
DESCRIPTION:Am Samstag\, den 18.01.2025 findet die Generalversammlung des Skiclub Haarhausen im Dorfgemeinschaftshaus Haarhausen statt. Hierzu sind alle Mitglieder herzlich eingeladen. Wir werden die Versammlung mit einem gemeinsamen Abendessen um 19.00 Uhr starten und dann um 20.00 Uhr mit dem offiziellen Teil beginnen. \nDie Tagesordnung lautet wie folgt: \n\nBegrüßung\nTätigkeitsbericht des Vorstands\nSiegerehrung der Clubmeister\nKassenbericht\nEntlastung des Vorstandes\nSatzungsänderungen\nNeuwahlen\nWahl des Kassenprüfers\nVerschiedenes
URL:https://skiclub-haarhausen.de/event/jahreshauptversammlung-2025/
LOCATION:DGH Haarhausen\, Erfurtshäuser Straße 14\, Haarhausen\, 35315
END:VEVENT
END:VCALENDAR